{
 "fullExtent": {
  "ymin": -2.00375083427892E7,
  "xmin": -2.00375083427892E7,
  "ymax": 2.00375083427892E7,
  "xmax": 2.00375083427892E7,
  "spatialReference": {
   "latestWKID": 3857,
   "wkid": 3857
  }
 },
 "capabilities": "Map",
 "supportsDynamicLayers": false,
 "maxScale": 0,
 "singleFusedMapCache": true,
 "tileInfo": {
  "lods": [
   {
    "level": 0,
    "scale": 1.2384755905511813E8,
    "resolution": 32768
   },
   {
    "level": 1,
    "scale": 6.1923779527559064E7,
    "resolution": 16384
   },
   {
    "level": 2,
    "scale": 3.0961889763779532E7,
    "resolution": 8192
   },
   {
    "level": 3,
    "scale": 1.5480944881889766E7,
    "resolution": 4096
   },
   {
    "level": 4,
    "scale": 7740472.440944883,
    "resolution": 2048
   },
   {
    "level": 5,
    "scale": 3870236.2204724415,
    "resolution": 1024
   },
   {
    "level": 6,
    "scale": 1935118.1102362208,
    "resolution": 512
   },
   {
    "level": 7,
    "scale": 967559.0551181104,
    "resolution": 256
   },
   {
    "level": 8,
    "scale": 483779.5275590552,
    "resolution": 128
   },
   {
    "level": 9,
    "scale": 241889.7637795276,
    "resolution": 64
   },
   {
    "level": 10,
    "scale": 120944.8818897638,
    "resolution": 32
   },
   {
    "level": 11,
    "scale": 60472.4409448819,
    "resolution": 16
   },
   {
    "level": 12,
    "scale": 30236.22047244095,
    "resolution": 8
   },
   {
    "level": 13,
    "scale": 15118.110236220475,
    "resolution": 4
   },
   {
    "level": 14,
    "scale": 7559.055118110237,
    "resolution": 2
   },
   {
    "level": 15,
    "scale": 3779.5275590551187,
    "resolution": 1
   },
   {
    "level": 16,
    "scale": 1889.7637795275593,
    "resolution": 0.5
   }
  ],
  "origin": {
   "x": -2.00375083427892E7,
   "y": 2.00375083427892E7,
   "m": null
  },
  "format": null,
  "rows": 256,
  "dpi": 96,
  "spatialReference": {
   "latestWKID": 3857,
   "wkid": 3857
  },
  "cols": 256
 },
 "description": "",
 "units": "esriMeters",
 "currentVersion": "10.21",
 "supportedImageFormatTypes": "PNG,JPG",
 "supportedQueryFormats": null,
 "initialExtent": {
  "ymin": -4194304,
  "xmin": -4194304,
  "ymax": 4194304,
  "xmax": 4194304,
  "spatialReference": {
   "latestWKID": 3857,
   "wkid": 3857
  }
 },
 "layers": [
  {
   "subLayerIds": [],
   "maxScale": 0,
   "name": "satellite",
   "defaultVisibility": true,
   "id": 0,
   "minScale": 0,
   "supportsDynamicLegends": false,
   "type": "Feature Layer",
   "parentLayerId": -1,
   "geometryType": null
  }
 ],
 "mapName": "satellite",
 "minScale": 0,
 "spatialReference": {
  "latestWKID": 3857,
  "wkid": 3857
 }
}
