{
 "fullExtent": {
  "ymin": -90,
  "xmin": -180,
  "ymax": 90,
  "xmax": 180,
  "spatialReference": {
   "latestWKID": 4490,
   "wkid": 4490
  }
 },
 "capabilities": "Map,TilesOnly",
 "supportsDynamicLayers": false,
 "maxScale": 0,
 "singleFusedMapCache": true,
 "tileInfo": {
  "lods": [
   {
    "level": 0,
    "scale": 1.479146777272828E8,
    "resolution": 0.35156249999999994
   },
   {
    "level": 1,
    "scale": 7.39573388636414E7,
    "resolution": 0.17578124999999997
   },
   {
    "level": 2,
    "scale": 3.69786694318207E7,
    "resolution": 0.08789062499999999
   },
   {
    "level": 3,
    "scale": 1.848933471591035E7,
    "resolution": 0.04394531249999999
   },
   {
    "level": 4,
    "scale": 9244667.357955175,
    "resolution": 0.021972656249999997
   },
   {
    "level": 5,
    "scale": 4622333.678977587,
    "resolution": 0.010986328124999998
   },
   {
    "level": 6,
    "scale": 2311166.8394887936,
    "resolution": 0.005493164062499999
   },
   {
    "level": 7,
    "scale": 1155583.4197443968,
    "resolution": 0.0027465820312499996
   },
   {
    "level": 8,
    "scale": 577791.7098721984,
    "resolution": 0.0013732910156249998
   },
   {
    "level": 9,
    "scale": 288895.8549360992,
    "resolution": 6.866455078124999E-4
   },
   {
    "level": 10,
    "scale": 144447.9274680496,
    "resolution": 3.4332275390624995E-4
   },
   {
    "level": 11,
    "scale": 72223.9637340248,
    "resolution": 1.7166137695312497E-4
   },
   {
    "level": 12,
    "scale": 36111.9818670124,
    "resolution": 8.583068847656249E-5
   },
   {
    "level": 13,
    "scale": 18055.9909335062,
    "resolution": 4.291534423828124E-5
   },
   {
    "level": 14,
    "scale": 9027.9954667531,
    "resolution": 2.145767211914062E-5
   },
   {
    "level": 15,
    "scale": 4513.99773337655,
    "resolution": 1.072883605957031E-5
   },
   {
    "level": 16,
    "scale": 2256.998866688275,
    "resolution": 5.364418029785155E-6
   }
  ],
  "origin": {
   "x": -180,
   "y": 90,
   "m": null
  },
  "format": null,
  "rows": 256,
  "dpi": 96,
  "spatialReference": {
   "latestWKID": 4490,
   "wkid": 4490
  },
  "cols": 256
 },
 "description": "",
 "units": "esriDecimalDegrees",
 "currentVersion": "10.21",
 "supportedImageFormatTypes": "PNG,JPG",
 "supportedQueryFormats": null,
 "initialExtent": {
  "ymin": -44.99999999999999,
  "xmin": -44.99999999999999,
  "ymax": 44.99999999999999,
  "xmax": 44.99999999999999,
  "spatialReference": {
   "latestWKID": 4490,
   "wkid": 4490
  }
 },
 "layers": [
  {
   "subLayerIds": [],
   "maxScale": 0,
   "name": "矢量底图_经纬度",
   "defaultVisibility": true,
   "id": 0,
   "minScale": 0,
   "supportsDynamicLegends": false,
   "type": "Feature Layer",
   "parentLayerId": -1,
   "geometryType": null
  }
 ],
 "mapName": "矢量底图_经纬度",
 "minScale": 0,
 "spatialReference": {
  "latestWKID": 4490,
  "wkid": 4490
 }
}
