{
 "fullExtent": {
  "ymin": -2.00375083427892E7,
  "xmin": -2.00375083427892E7,
  "ymax": 2.00375083427892E7,
  "xmax": 2.00375083427892E7,
  "spatialReference": {
   "latestWKID": 3857,
   "wkid": 3857
  }
 },
 "capabilities": "Map,TilesOnly",
 "supportsDynamicLayers": false,
 "maxScale": 0,
 "singleFusedMapCache": true,
 "tileInfo": {
  "lods": [
   {
    "level": 0,
    "scale": 1.479146777272828E8,
    "resolution": 39135.758482010235
   },
   {
    "level": 1,
    "scale": 7.39573388636414E7,
    "resolution": 19567.879241005117
   },
   {
    "level": 2,
    "scale": 3.69786694318207E7,
    "resolution": 9783.939620502559
   },
   {
    "level": 3,
    "scale": 1.848933471591035E7,
    "resolution": 4891.969810251279
   },
   {
    "level": 4,
    "scale": 9244667.357955175,
    "resolution": 2445.9849051256397
   },
   {
    "level": 5,
    "scale": 4622333.678977587,
    "resolution": 1222.9924525628198
   },
   {
    "level": 6,
    "scale": 2311166.8394887936,
    "resolution": 611.4962262814099
   },
   {
    "level": 7,
    "scale": 1155583.4197443968,
    "resolution": 305.74811314070496
   },
   {
    "level": 8,
    "scale": 577791.7098721984,
    "resolution": 152.87405657035248
   },
   {
    "level": 9,
    "scale": 288895.8549360992,
    "resolution": 76.43702828517624
   },
   {
    "level": 10,
    "scale": 144447.9274680496,
    "resolution": 38.21851414258812
   },
   {
    "level": 11,
    "scale": 72223.9637340248,
    "resolution": 19.10925707129406
   },
   {
    "level": 12,
    "scale": 36111.9818670124,
    "resolution": 9.55462853564703
   },
   {
    "level": 13,
    "scale": 18055.9909335062,
    "resolution": 4.777314267823515
   },
   {
    "level": 14,
    "scale": 9027.9954667531,
    "resolution": 2.3886571339117575
   },
   {
    "level": 15,
    "scale": 4513.99773337655,
    "resolution": 1.1943285669558787
   },
   {
    "level": 16,
    "scale": 2256.998866688275,
    "resolution": 0.5971642834779394
   }
  ],
  "origin": {
   "x": -2.00375083427892E7,
   "y": 2.00375083427892E7,
   "m": null
  },
  "format": null,
  "rows": 256,
  "dpi": 96,
  "spatialReference": {
   "latestWKID": 3857,
   "wkid": 3857
  },
  "cols": 256
 },
 "description": "",
 "units": "esriMeters",
 "currentVersion": "10.21",
 "supportedImageFormatTypes": "PNG,JPG",
 "supportedQueryFormats": null,
 "initialExtent": {
  "ymin": -5009377.08569731,
  "xmin": -5009377.08569731,
  "ymax": 5009377.08569731,
  "xmax": 5009377.08569731,
  "spatialReference": {
   "latestWKID": 3857,
   "wkid": 3857
  }
 },
 "layers": [
  {
   "subLayerIds": [],
   "maxScale": 0,
   "name": "矢量英文注记_墨卡托",
   "defaultVisibility": true,
   "id": 0,
   "minScale": 0,
   "supportsDynamicLegends": false,
   "type": "Feature Layer",
   "parentLayerId": -1,
   "geometryType": null
  }
 ],
 "mapName": "矢量英文注记_墨卡托",
 "minScale": 0,
 "spatialReference": {
  "latestWKID": 3857,
  "wkid": 3857
 }
}
